BEGIN:VCALENDAR
VERSION:2.0
PRODID:icalendar-ruby
CALSCALE:GREGORIAN
METHOD:PUBLISH
BEGIN:VEVENT
DTSTAMP:20260425T164546Z
UID:26-893198@unityofolympia.org
DTSTART:20261101T180000Z
DTEND:20261101T190500Z
CLASS:PUBLIC
CREATED:20260425T072859
DESCRIPTION:You are welcome here...\n\nWe invite you to join us for a refre
 shing\, joy-filled celebration of the Spirit within on Sunday mornings.\nE
 njoy soulful\, live music\; nurturing children's programming\; engaging ta
 lks\; and centering meditation. Sundays at Unity are filled with reflectio
 n\, connection\, and warmth.\nJoin us in person or online right here. Wh
 erever you are\, Spirit is\, and all is well.\n \nBringing Children?\nWe 
 welcome children of all ages into our sanctuary where they are invited to 
 join our Youth &amp\; Family Ministries program which offers age appropr
 iate lessons and activities for babies through high school.\nOr if you wou
 ld rather\, you are welcome to have them remain in the service with you. 
 \n
LAST-MODIFIED:20260425T072859
LOCATION:@TBH
SUMMARY:Sunday Service
URL;VALUE=URI:https://unityofolympia.org/events/sunday-service--26/2026-11-
 01
ATTACH;FILENAME=UofO-%40TBH---Untitled-Page.png;FMTTYPE=image/png:https://d
 q5pwpg1q8ru0.cloudfront.net/2024/10/26/16/18/47/4ea6e053-5967-4d94-b668-42
 d508cfa946/UofO-%2540TBH---Untitled-Page.png
END:VEVENT
END:VCALENDAR
