BEGIN:VCALENDAR
VERSION:2.0
PRODID:icalendar-ruby
CALSCALE:GREGORIAN
METHOD:PUBLISH
BEGIN:VEVENT
DTSTAMP:20260425T123949Z
UID:112-892970@unityofolympia.org
DTSTART:20261018T161500Z
DTEND:20261018T164500Z
CLASS:PUBLIC
CREATED:20260425T044749
DESCRIPTION: World Peace Vigil\nEvery Sunday from 9:15-9:45am\nOur weekly g
 atherings begin this Sunday\, March 15th in the library with Linda Ihrig. 
 All are welcome to join in holding sacred space for peace.\nHave any quest
 ions? Contact us here.
LAST-MODIFIED:20260425T044749
LOCATION:TBH Library
SUMMARY:World Peace Vigil
URL;VALUE=URI:https://unityofolympia.org/events/world-peace-vigil/2026-10-1
 8
ATTACH;FILENAME=World-Peace-Vigil.jpeg;FMTTYPE=image/jpeg:https://dq5pwpg1q
 8ru0.cloudfront.net/2026/03/12/08/37/21/f53bdcef-2022-472b-a0da-d9118852e5
 44/World-Peace-Vigil.jpeg
END:VEVENT
END:VCALENDAR
